BEGIN:VCALENDAR
VERSION:2.0
PRODID:-//Clearwater York Rite - ECPv6.15.20//NONSGML v1.0//EN
CALSCALE:GREGORIAN
METHOD:PUBLISH
X-WR-CALNAME:Clearwater York Rite
X-ORIGINAL-URL:https://yorkriteclw.org
X-WR-CALDESC:Events for Clearwater York Rite
REFRESH-INTERVAL;VALUE=DURATION:PT1H
X-Robots-Tag:noindex
X-PUBLISHED-TTL:PT1H
BEGIN:VTIMEZONE
TZID:America/New_York
BEGIN:DAYLIGHT
TZOFFSETFROM:-0500
TZOFFSETTO:-0400
TZNAME:EDT
DTSTART:20240310T070000
END:DAYLIGHT
BEGIN:STANDARD
TZOFFSETFROM:-0400
TZOFFSETTO:-0500
TZNAME:EST
DTSTART:20241103T060000
END:STANDARD
BEGIN:DAYLIGHT
TZOFFSETFROM:-0500
TZOFFSETTO:-0400
TZNAME:EDT
DTSTART:20250309T070000
END:DAYLIGHT
BEGIN:STANDARD
TZOFFSETFROM:-0400
TZOFFSETTO:-0500
TZNAME:EST
DTSTART:20251102T060000
END:STANDARD
BEGIN:DAYLIGHT
TZOFFSETFROM:-0500
TZOFFSETTO:-0400
TZNAME:EDT
DTSTART:20260308T070000
END:DAYLIGHT
BEGIN:STANDARD
TZOFFSETFROM:-0400
TZOFFSETTO:-0500
TZNAME:EST
DTSTART:20261101T060000
END:STANDARD
END:VTIMEZONE
BEGIN:VEVENT
DTSTART;TZID=America/New_York:20250604T193000
DTEND;TZID=America/New_York:20250604T210000
DTSTAMP:20260424T054600
CREATED:20250114T042530Z
LAST-MODIFIED:20250114T043122Z
UID:3824-1749065400-1749070800@yorkriteclw.org
SUMMARY:York Rite Chapter and Council
DESCRIPTION:
URL:https://yorkriteclw.org/event/york-rite-chapter-and-council-5/
CATEGORIES:York Rite
END:VEVENT
BEGIN:VEVENT
DTSTART;TZID=America/New_York:20250625T183000
DTEND;TZID=America/New_York:20250625T191500
DTSTAMP:20260424T054600
CREATED:20250114T042603Z
LAST-MODIFIED:20250114T043138Z
UID:3840-1750876200-1750878900@yorkriteclw.org
SUMMARY:York Rite Commandery Practice
DESCRIPTION:
URL:https://yorkriteclw.org/event/york-rite-commandery-practice-8/
CATEGORIES:York Rite
END:VEVENT
BEGIN:VEVENT
DTSTART;TZID=America/New_York:20250625T193000
DTEND;TZID=America/New_York:20250625T210000
DTSTAMP:20260424T054600
CREATED:20250114T042546Z
LAST-MODIFIED:20250114T043138Z
UID:3832-1750879800-1750885200@yorkriteclw.org
SUMMARY:York Rite Commandery
DESCRIPTION:
URL:https://yorkriteclw.org/event/york-rite-commandery-6/
CATEGORIES:York Rite
END:VEVENT
END:VCALENDAR