BEGIN:VCALENDAR
VERSION:2.0
PRODID:-//Clearwater York Rite - ECPv6.15.20//NONSGML v1.0//EN
CALSCALE:GREGORIAN
METHOD:PUBLISH
X-WR-CALNAME:Clearwater York Rite
X-ORIGINAL-URL:https://yorkriteclw.org
X-WR-CALDESC:Events for Clearwater York Rite
REFRESH-INTERVAL;VALUE=DURATION:PT1H
X-Robots-Tag:noindex
X-PUBLISHED-TTL:PT1H
BEGIN:VTIMEZONE
TZID:America/New_York
BEGIN:DAYLIGHT
TZOFFSETFROM:-0500
TZOFFSETTO:-0400
TZNAME:EDT
DTSTART:20170312T070000
END:DAYLIGHT
BEGIN:STANDARD
TZOFFSETFROM:-0400
TZOFFSETTO:-0500
TZNAME:EST
DTSTART:20171105T060000
END:STANDARD
BEGIN:DAYLIGHT
TZOFFSETFROM:-0500
TZOFFSETTO:-0400
TZNAME:EDT
DTSTART:20180311T070000
END:DAYLIGHT
BEGIN:STANDARD
TZOFFSETFROM:-0400
TZOFFSETTO:-0500
TZNAME:EST
DTSTART:20181104T060000
END:STANDARD
BEGIN:DAYLIGHT
TZOFFSETFROM:-0500
TZOFFSETTO:-0400
TZNAME:EDT
DTSTART:20190310T070000
END:DAYLIGHT
BEGIN:STANDARD
TZOFFSETFROM:-0400
TZOFFSETTO:-0500
TZNAME:EST
DTSTART:20191103T060000
END:STANDARD
END:VTIMEZONE
BEGIN:VEVENT
DTSTART;TZID=America/New_York:20180606T183000
DTEND;TZID=America/New_York:20180606T213000
DTSTAMP:20260421T095025
CREATED:20180307T145108Z
LAST-MODIFIED:20180411T100311Z
UID:543-1528309800-1528320600@yorkriteclw.org
SUMMARY:Chapter and Council Meetings
DESCRIPTION:Monthly meetings of Clearwater Chapter No. 45 & Clearwater Council No. 34.
URL:https://yorkriteclw.org/event/chapter-and-council-meetings-7/
LOCATION:Clearwater York Rite Bodies\, 28 N. Ring Ave\, Tarpon Springs\, FL\, 34689\, United States
ORGANIZER;CN="Clearwater York Rite Bodies":MAILTO:bodies@yorkriteclw.org
END:VEVENT
BEGIN:VEVENT
DTSTART;TZID=America/New_York:20180523T183000
DTEND;TZID=America/New_York:20180523T213000
DTSTAMP:20260421T095025
CREATED:20180307T145118Z
LAST-MODIFIED:20180411T103839Z
UID:545-1527100200-1527111000@yorkriteclw.org
SUMMARY:Springtime Commandery No. 40 Meeting
DESCRIPTION:
URL:https://yorkriteclw.org/event/springtime-commandery-no-40-meeting-6/
LOCATION:Clearwater York Rite Bodies\, 28 N. Ring Ave\, Tarpon Springs\, FL\, 34689\, United States
ORGANIZER;CN="Clearwater York Rite Bodies":MAILTO:bodies@yorkriteclw.org
END:VEVENT
BEGIN:VEVENT
DTSTART;TZID=America/New_York:20180502T183000
DTEND;TZID=America/New_York:20180502T213000
DTSTAMP:20260421T095025
CREATED:20180307T145122Z
LAST-MODIFIED:20180411T103839Z
UID:547-1525285800-1525296600@yorkriteclw.org
SUMMARY:Chapter and Council Meetings
DESCRIPTION:Monthly meetings of Clearwater Chapter No. 45 & Clearwater Council No. 34.
URL:https://yorkriteclw.org/event/chapter-and-council-meetings-8/
LOCATION:Clearwater York Rite Bodies\, 28 N. Ring Ave\, Tarpon Springs\, FL\, 34689\, United States
ORGANIZER;CN="Clearwater York Rite Bodies":MAILTO:bodies@yorkriteclw.org
END:VEVENT
BEGIN:VEVENT
DTSTART;TZID=America/New_York:20180425T183000
DTEND;TZID=America/New_York:20180425T213000
DTSTAMP:20260421T095025
CREATED:20180307T145126Z
LAST-MODIFIED:20180411T103839Z
UID:549-1524681000-1524691800@yorkriteclw.org
SUMMARY:Springtime Commandery No. 40 Meeting
DESCRIPTION:
URL:https://yorkriteclw.org/event/springtime-commandery-no-40-meeting-7/
LOCATION:Clearwater York Rite Bodies\, 28 N. Ring Ave\, Tarpon Springs\, FL\, 34689\, United States
ORGANIZER;CN="Clearwater York Rite Bodies":MAILTO:bodies@yorkriteclw.org
END:VEVENT
BEGIN:VEVENT
DTSTART;TZID=America/New_York:20180404T183000
DTEND;TZID=America/New_York:20180404T213000
DTSTAMP:20260421T095025
CREATED:20180307T144541Z
LAST-MODIFIED:20180404T222051Z
UID:517-1522866600-1522877400@yorkriteclw.org
SUMMARY:Chapter and Council Meetings
DESCRIPTION:Monthly meetings of Clearwater Chapter No. 45 & Clearwater Council No. 34.
URL:https://yorkriteclw.org/event/chapter-and-council-meetings/
LOCATION:FL
ORGANIZER;CN="Clearwater York Rite Bodies":MAILTO:bodies@yorkriteclw.org
END:VEVENT
BEGIN:VEVENT
DTSTART;TZID=America/New_York:20180328T183000
DTEND;TZID=America/New_York:20180328T213000
DTSTAMP:20260421T095025
CREATED:20180307T144542Z
LAST-MODIFIED:20180328T195055Z
UID:519-1522261800-1522272600@yorkriteclw.org
SUMMARY:Springtime Commandery No. 40 Meeting
DESCRIPTION:
URL:https://yorkriteclw.org/event/springtime-commandery-no-40-meeting/
LOCATION:Clearwater York Rite Bodies\, 28 N. Ring Ave\, Tarpon Springs\, FL\, 34689\, United States
ORGANIZER;CN="Clearwater York Rite Bodies":MAILTO:bodies@yorkriteclw.org
END:VEVENT
BEGIN:VEVENT
DTSTART;TZID=America/New_York:20180307T193000
DTEND;TZID=America/New_York:20180307T223000
DTSTAMP:20260421T095025
CREATED:20180307T144543Z
LAST-MODIFIED:20180307T145638Z
UID:521-1520451000-1520461800@yorkriteclw.org
SUMMARY:Chapter and Council Meetings
DESCRIPTION:Monthly meetings of Clearwater Chapter No. 45 & Clearwater Council No. 34.
URL:https://yorkriteclw.org/event/chapter-and-council-meetings-2/
LOCATION:Clearwater York Rite Bodies\, 28 N. Ring Ave\, Tarpon Springs\, FL\, 34689\, United States
ORGANIZER;CN="Clearwater York Rite Bodies":MAILTO:bodies@yorkriteclw.org
END:VEVENT
BEGIN:VEVENT
DTSTART;TZID=America/New_York:20180228T183000
DTEND;TZID=America/New_York:20180228T210000
DTSTAMP:20260421T095025
CREATED:20180207T175921Z
LAST-MODIFIED:20180207T183756Z
UID:433-1519842600-1519851600@yorkriteclw.org
SUMMARY:Commandery  Meeting ( Knights Templar)
DESCRIPTION:
URL:https://yorkriteclw.org/event/commandery-meeting-knights-templar/
LOCATION:Tarpon Lodge\, 26 North Ring Avenue\, Tarpon Springs\, FL\, 34689\, United States
END:VEVENT
BEGIN:VEVENT
DTSTART;TZID=America/New_York:20180207T183000
DTEND;TZID=America/New_York:20180207T210000
DTSTAMP:20260421T095025
CREATED:20180207T175820Z
LAST-MODIFIED:20180207T175820Z
UID:430-1518028200-1518037200@yorkriteclw.org
SUMMARY:Chapter & Council Meeting
DESCRIPTION:
URL:https://yorkriteclw.org/event/chapter-council-meeting/
LOCATION:Tarpon Lodge\, 26 North Ring Avenue\, Tarpon Springs\, FL\, 34689\, United States
END:VEVENT
END:VCALENDAR