BEGIN:VCALENDAR
VERSION:2.0
PRODID:-//Clearwater York Rite - ECPv6.15.20//NONSGML v1.0//EN
CALSCALE:GREGORIAN
METHOD:PUBLISH
X-ORIGINAL-URL:https://yorkriteclw.org
X-WR-CALDESC:Events for Clearwater York Rite
REFRESH-INTERVAL;VALUE=DURATION:PT1H
X-Robots-Tag:noindex
X-PUBLISHED-TTL:PT1H
BEGIN:VTIMEZONE
TZID:America/New_York
BEGIN:DAYLIGHT
TZOFFSETFROM:-0500
TZOFFSETTO:-0400
TZNAME:EDT
DTSTART:20190310T070000
END:DAYLIGHT
BEGIN:STANDARD
TZOFFSETFROM:-0400
TZOFFSETTO:-0500
TZNAME:EST
DTSTART:20191103T060000
END:STANDARD
BEGIN:DAYLIGHT
TZOFFSETFROM:-0500
TZOFFSETTO:-0400
TZNAME:EDT
DTSTART:20200308T070000
END:DAYLIGHT
BEGIN:STANDARD
TZOFFSETFROM:-0400
TZOFFSETTO:-0500
TZNAME:EST
DTSTART:20201101T060000
END:STANDARD
BEGIN:DAYLIGHT
TZOFFSETFROM:-0500
TZOFFSETTO:-0400
TZNAME:EDT
DTSTART:20210314T070000
END:DAYLIGHT
BEGIN:STANDARD
TZOFFSETFROM:-0400
TZOFFSETTO:-0500
TZNAME:EST
DTSTART:20211107T060000
END:STANDARD
END:VTIMEZONE
BEGIN:VEVENT
DTSTART;TZID=America/New_York:20201202T193000
DTEND;TZID=America/New_York:20201202T210000
DTSTAMP:20260421T081656
CREATED:20200217T154114Z
LAST-MODIFIED:20200217T155708Z
UID:1424-1606937400-1606942800@yorkriteclw.org
SUMMARY:Chapter and Council Meetings
DESCRIPTION:Monthly meetings of Clearwater Chapter No. 45 & Clearwater Council No. 34.
URL:https://yorkriteclw.org/event/chapter-and-council-meetings-19/
LOCATION:Clearwater York Rite Bodies\, 28 N. Ring Ave\, Tarpon Springs\, FL\, 34689\, United States
CATEGORIES:Meeting
END:VEVENT
BEGIN:VEVENT
DTSTART;TZID=America/New_York:20201118T193000
DTEND;TZID=America/New_York:20201118T210000
DTSTAMP:20260421T081656
CREATED:20200217T154117Z
LAST-MODIFIED:20200217T155249Z
UID:1436-1605727800-1605733200@yorkriteclw.org
SUMMARY:Springtime Commandery No. 40 Meeting
DESCRIPTION:
URL:https://yorkriteclw.org/event/springtime-commandery-no-40-meeting-17/
LOCATION:Clearwater York Rite Bodies\, 28 N. Ring Ave\, Tarpon Springs\, FL\, 34689\, United States
CATEGORIES:Meeting
ATTACH;FMTTYPE=image/jpeg:https://yorkriteclw.org/wp-content/uploads/2018/04/f0316851b61f819bbff2e4e793751ccc-1.jpg
END:VEVENT
BEGIN:VEVENT
DTSTART;TZID=America/New_York:20201104T193000
DTEND;TZID=America/New_York:20201104T210000
DTSTAMP:20260421T081656
CREATED:20200217T154113Z
LAST-MODIFIED:20200217T155658Z
UID:1423-1604518200-1604523600@yorkriteclw.org
SUMMARY:Chapter and Council Meetings
DESCRIPTION:Monthly meetings of Clearwater Chapter No. 45 & Clearwater Council No. 34.
URL:https://yorkriteclw.org/event/chapter-and-council-meetings-18/
LOCATION:Clearwater York Rite Bodies\, 28 N. Ring Ave\, Tarpon Springs\, FL\, 34689\, United States
CATEGORIES:Meeting
END:VEVENT
BEGIN:VEVENT
DTSTART;TZID=America/New_York:20201028T193000
DTEND;TZID=America/New_York:20201028T210000
DTSTAMP:20260421T081656
CREATED:20200217T154117Z
LAST-MODIFIED:20200217T155236Z
UID:1435-1603913400-1603918800@yorkriteclw.org
SUMMARY:Springtime Commandery No. 40 Meeting
DESCRIPTION:
URL:https://yorkriteclw.org/event/springtime-commandery-no-40-meeting-16/
LOCATION:Clearwater York Rite Bodies\, 28 N. Ring Ave\, Tarpon Springs\, FL\, 34689\, United States
CATEGORIES:Meeting
ATTACH;FMTTYPE=image/jpeg:https://yorkriteclw.org/wp-content/uploads/2018/04/f0316851b61f819bbff2e4e793751ccc-1.jpg
END:VEVENT
BEGIN:VEVENT
DTSTART;TZID=America/New_York:20201007T193000
DTEND;TZID=America/New_York:20201007T210000
DTSTAMP:20260421T081656
CREATED:20200217T154113Z
LAST-MODIFIED:20200217T155639Z
UID:1422-1602099000-1602104400@yorkriteclw.org
SUMMARY:Chapter and Council Meetings
DESCRIPTION:Monthly meetings of Clearwater Chapter No. 45 & Clearwater Council No. 34.
URL:https://yorkriteclw.org/event/chapter-and-council-meetings-17/
LOCATION:Clearwater York Rite Bodies\, 28 N. Ring Ave\, Tarpon Springs\, FL\, 34689\, United States
CATEGORIES:Meeting
END:VEVENT
BEGIN:VEVENT
DTSTART;TZID=America/New_York:20200923T193000
DTEND;TZID=America/New_York:20200923T210000
DTSTAMP:20260421T081656
CREATED:20200217T154117Z
LAST-MODIFIED:20200217T155222Z
UID:1434-1600889400-1600894800@yorkriteclw.org
SUMMARY:Springtime Commandery No. 40 Meeting
DESCRIPTION:
URL:https://yorkriteclw.org/event/springtime-commandery-no-40-meeting-15/
LOCATION:Clearwater York Rite Bodies\, 28 N. Ring Ave\, Tarpon Springs\, FL\, 34689\, United States
CATEGORIES:Meeting
ATTACH;FMTTYPE=image/jpeg:https://yorkriteclw.org/wp-content/uploads/2018/04/f0316851b61f819bbff2e4e793751ccc-1.jpg
END:VEVENT
BEGIN:VEVENT
DTSTART;TZID=America/New_York:20200902T193000
DTEND;TZID=America/New_York:20200902T210000
DTSTAMP:20260421T081656
CREATED:20200217T154113Z
LAST-MODIFIED:20200217T155627Z
UID:1421-1599075000-1599080400@yorkriteclw.org
SUMMARY:Chapter and Council Meetings
DESCRIPTION:Monthly meetings of Clearwater Chapter No. 45 & Clearwater Council No. 34.
URL:https://yorkriteclw.org/event/chapter-and-council-meetings-16/
LOCATION:Clearwater York Rite Bodies\, 28 N. Ring Ave\, Tarpon Springs\, FL\, 34689\, United States
CATEGORIES:Meeting
END:VEVENT
BEGIN:VEVENT
DTSTART;TZID=America/New_York:20200826T193000
DTEND;TZID=America/New_York:20200826T210000
DTSTAMP:20260421T081656
CREATED:20200217T154116Z
LAST-MODIFIED:20200217T155212Z
UID:1433-1598470200-1598475600@yorkriteclw.org
SUMMARY:Springtime Commandery No. 40 Meeting
DESCRIPTION:
URL:https://yorkriteclw.org/event/springtime-commandery-no-40-meeting-14/
LOCATION:Clearwater York Rite Bodies\, 28 N. Ring Ave\, Tarpon Springs\, FL\, 34689\, United States
CATEGORIES:Meeting
ATTACH;FMTTYPE=image/jpeg:https://yorkriteclw.org/wp-content/uploads/2018/04/f0316851b61f819bbff2e4e793751ccc-1.jpg
END:VEVENT
BEGIN:VEVENT
DTSTART;TZID=America/New_York:20200805T193000
DTEND;TZID=America/New_York:20200805T210000
DTSTAMP:20260421T081656
CREATED:20200217T154113Z
LAST-MODIFIED:20200217T155614Z
UID:1420-1596655800-1596661200@yorkriteclw.org
SUMMARY:Chapter and Council Meetings
DESCRIPTION:Monthly meetings of Clearwater Chapter No. 45 & Clearwater Council No. 34.
URL:https://yorkriteclw.org/event/chapter-and-council-meetings-15/
LOCATION:Clearwater York Rite Bodies\, 28 N. Ring Ave\, Tarpon Springs\, FL\, 34689\, United States
CATEGORIES:Meeting
END:VEVENT
BEGIN:VEVENT
DTSTART;TZID=America/New_York:20200722T193000
DTEND;TZID=America/New_York:20200722T210000
DTSTAMP:20260421T081656
CREATED:20200217T154116Z
LAST-MODIFIED:20200217T155202Z
UID:1432-1595446200-1595451600@yorkriteclw.org
SUMMARY:Springtime Commandery No. 40 Meeting
DESCRIPTION:
URL:https://yorkriteclw.org/event/springtime-commandery-no-40-meeting-13/
LOCATION:Clearwater York Rite Bodies\, 28 N. Ring Ave\, Tarpon Springs\, FL\, 34689\, United States
CATEGORIES:Meeting
ATTACH;FMTTYPE=image/jpeg:https://yorkriteclw.org/wp-content/uploads/2018/04/f0316851b61f819bbff2e4e793751ccc-1.jpg
END:VEVENT
BEGIN:VEVENT
DTSTART;TZID=America/New_York:20200701T193000
DTEND;TZID=America/New_York:20200701T210000
DTSTAMP:20260421T081656
CREATED:20200217T154113Z
LAST-MODIFIED:20200217T155604Z
UID:1419-1593631800-1593637200@yorkriteclw.org
SUMMARY:Chapter and Council Meetings
DESCRIPTION:Monthly meetings of Clearwater Chapter No. 45 & Clearwater Council No. 34.
URL:https://yorkriteclw.org/event/chapter-and-council-meetings-14/
LOCATION:Clearwater York Rite Bodies\, 28 N. Ring Ave\, Tarpon Springs\, FL\, 34689\, United States
CATEGORIES:Meeting
END:VEVENT
BEGIN:VEVENT
DTSTART;TZID=America/New_York:20200624T193000
DTEND;TZID=America/New_York:20200624T210000
DTSTAMP:20260421T081656
CREATED:20200217T154116Z
LAST-MODIFIED:20200217T155149Z
UID:1431-1593027000-1593032400@yorkriteclw.org
SUMMARY:Springtime Commandery No. 40 Meeting
DESCRIPTION:
URL:https://yorkriteclw.org/event/springtime-commandery-no-40-meeting-12/
LOCATION:Clearwater York Rite Bodies\, 28 N. Ring Ave\, Tarpon Springs\, FL\, 34689\, United States
CATEGORIES:Meeting
ATTACH;FMTTYPE=image/jpeg:https://yorkriteclw.org/wp-content/uploads/2018/04/f0316851b61f819bbff2e4e793751ccc-1.jpg
END:VEVENT
BEGIN:VEVENT
DTSTART;TZID=America/New_York:20200603T193000
DTEND;TZID=America/New_York:20200603T210000
DTSTAMP:20260421T081656
CREATED:20200217T154110Z
LAST-MODIFIED:20200217T155552Z
UID:1418-1591212600-1591218000@yorkriteclw.org
SUMMARY:Chapter and Council Meetings
DESCRIPTION:Monthly meetings of Clearwater Chapter No. 45 & Clearwater Council No. 34.
URL:https://yorkriteclw.org/event/chapter-and-council-meetings-13/
LOCATION:Clearwater York Rite Bodies\, 28 N. Ring Ave\, Tarpon Springs\, FL\, 34689\, United States
CATEGORIES:Meeting
END:VEVENT
BEGIN:VEVENT
DTSTART;TZID=America/New_York:20200527T193000
DTEND;TZID=America/New_York:20200527T210000
DTSTAMP:20260421T081656
CREATED:20200217T154116Z
LAST-MODIFIED:20200217T155140Z
UID:1430-1590607800-1590613200@yorkriteclw.org
SUMMARY:Springtime Commandery No. 40 Meeting
DESCRIPTION:
URL:https://yorkriteclw.org/event/springtime-commandery-no-40-meeting-11/
LOCATION:Clearwater York Rite Bodies\, 28 N. Ring Ave\, Tarpon Springs\, FL\, 34689\, United States
CATEGORIES:Meeting
END:VEVENT
BEGIN:VEVENT
DTSTART;TZID=America/New_York:20200506T193000
DTEND;TZID=America/New_York:20200506T210000
DTSTAMP:20260421T081656
CREATED:20200217T154110Z
LAST-MODIFIED:20200217T155541Z
UID:1417-1588793400-1588798800@yorkriteclw.org
SUMMARY:Chapter and Council Meetings
DESCRIPTION:Monthly meetings of Clearwater Chapter No. 45 & Clearwater Council No. 34.
URL:https://yorkriteclw.org/event/chapter-and-council-meetings-12/
LOCATION:Clearwater York Rite Bodies\, 28 N. Ring Ave\, Tarpon Springs\, FL\, 34689\, United States
CATEGORIES:Meeting
END:VEVENT
BEGIN:VEVENT
DTSTART;TZID=America/New_York:20200422T193000
DTEND;TZID=America/New_York:20200422T210000
DTSTAMP:20260421T081656
CREATED:20200217T154116Z
LAST-MODIFIED:20200217T155129Z
UID:1429-1587583800-1587589200@yorkriteclw.org
SUMMARY:Springtime Commandery No. 40 Meeting
DESCRIPTION:
URL:https://yorkriteclw.org/event/springtime-commandery-no-40-meeting-10/
LOCATION:Clearwater York Rite Bodies\, 28 N. Ring Ave\, Tarpon Springs\, FL\, 34689\, United States
CATEGORIES:Meeting
ATTACH;FMTTYPE=image/jpeg:https://yorkriteclw.org/wp-content/uploads/2018/04/f0316851b61f819bbff2e4e793751ccc-1.jpg
END:VEVENT
BEGIN:VEVENT
DTSTART;TZID=America/New_York:20200401T193000
DTEND;TZID=America/New_York:20200401T210000
DTSTAMP:20260421T081656
CREATED:20200217T154110Z
LAST-MODIFIED:20200217T155527Z
UID:1416-1585769400-1585774800@yorkriteclw.org
SUMMARY:Chapter and Council Meetings
DESCRIPTION:Monthly meetings of Clearwater Chapter No. 45 & Clearwater Council No. 34.
URL:https://yorkriteclw.org/event/chapter-and-council-meetings-11/
LOCATION:Clearwater York Rite Bodies\, 28 N. Ring Ave\, Tarpon Springs\, FL\, 34689\, United States
CATEGORIES:Meeting
END:VEVENT
BEGIN:VEVENT
DTSTART;TZID=America/New_York:20200325T193000
DTEND;TZID=America/New_York:20200325T210000
DTSTAMP:20260421T081656
CREATED:20200217T154115Z
LAST-MODIFIED:20200217T155116Z
UID:1428-1585164600-1585170000@yorkriteclw.org
SUMMARY:Springtime Commandery No. 40 Meeting
DESCRIPTION:
URL:https://yorkriteclw.org/event/springtime-commandery-no-40-meeting-9/
LOCATION:Clearwater York Rite Bodies\, 28 N. Ring Ave\, Tarpon Springs\, FL\, 34689\, United States
CATEGORIES:Meeting
ATTACH;FMTTYPE=image/jpeg:https://yorkriteclw.org/wp-content/uploads/2018/04/f0316851b61f819bbff2e4e793751ccc-1.jpg
END:VEVENT
BEGIN:VEVENT
DTSTART;TZID=America/New_York:20200304T193000
DTEND;TZID=America/New_York:20200304T210000
DTSTAMP:20260421T081656
CREATED:20200217T154110Z
LAST-MODIFIED:20200217T155507Z
UID:1415-1583350200-1583355600@yorkriteclw.org
SUMMARY:Chapter and Council Meetings
DESCRIPTION:Monthly meetings of Clearwater Chapter No. 45 & Clearwater Council No. 34.
URL:https://yorkriteclw.org/event/chapter-and-council-meetings-10/
LOCATION:Clearwater York Rite Bodies\, 28 N. Ring Ave\, Tarpon Springs\, FL\, 34689\, United States
CATEGORIES:Meeting
END:VEVENT
BEGIN:VEVENT
DTSTART;TZID=America/New_York:20200226T193000
DTEND;TZID=America/New_York:20200226T210000
DTSTAMP:20260421T081656
CREATED:20200217T154115Z
LAST-MODIFIED:20200217T155105Z
UID:1427-1582745400-1582750800@yorkriteclw.org
SUMMARY:Springtime Commandery No. 40 Meeting
DESCRIPTION:
URL:https://yorkriteclw.org/event/springtime-commandery-no-40-meeting-8/
LOCATION:Clearwater York Rite Bodies\, 28 N. Ring Ave\, Tarpon Springs\, FL\, 34689\, United States
CATEGORIES:Meeting
ATTACH;FMTTYPE=image/jpeg:https://yorkriteclw.org/wp-content/uploads/2018/04/f0316851b61f819bbff2e4e793751ccc-1.jpg
END:VEVENT
BEGIN:VEVENT
DTSTART;TZID=America/New_York:20200205T193000
DTEND;TZID=America/New_York:20200205T210000
DTSTAMP:20260421T081656
CREATED:20200217T154110Z
LAST-MODIFIED:20200217T155456Z
UID:1414-1580931000-1580936400@yorkriteclw.org
SUMMARY:Chapter and Council Meetings
DESCRIPTION:Monthly meetings of Clearwater Chapter No. 45 & Clearwater Council No. 34.
URL:https://yorkriteclw.org/event/chapter-and-council-meetings-9/
LOCATION:Clearwater York Rite Bodies\, 28 N. Ring Ave\, Tarpon Springs\, FL\, 34689\, United States
CATEGORIES:Meeting
END:VEVENT
END:VCALENDAR