BEGIN:VCALENDAR
VERSION:2.0
PRODID:-//Clearwater York Rite - ECPv6.15.20//NONSGML v1.0//EN
CALSCALE:GREGORIAN
METHOD:PUBLISH
X-WR-CALNAME:Clearwater York Rite
X-ORIGINAL-URL:https://yorkriteclw.org
X-WR-CALDESC:Events for Clearwater York Rite
REFRESH-INTERVAL;VALUE=DURATION:PT1H
X-Robots-Tag:noindex
X-PUBLISHED-TTL:PT1H
BEGIN:VTIMEZONE
TZID:America/New_York
BEGIN:DAYLIGHT
TZOFFSETFROM:-0500
TZOFFSETTO:-0400
TZNAME:EDT
DTSTART:20190310T070000
END:DAYLIGHT
BEGIN:STANDARD
TZOFFSETFROM:-0400
TZOFFSETTO:-0500
TZNAME:EST
DTSTART:20191103T060000
END:STANDARD
BEGIN:DAYLIGHT
TZOFFSETFROM:-0500
TZOFFSETTO:-0400
TZNAME:EDT
DTSTART:20200308T070000
END:DAYLIGHT
BEGIN:STANDARD
TZOFFSETFROM:-0400
TZOFFSETTO:-0500
TZNAME:EST
DTSTART:20201101T060000
END:STANDARD
BEGIN:DAYLIGHT
TZOFFSETFROM:-0500
TZOFFSETTO:-0400
TZNAME:EDT
DTSTART:20210314T070000
END:DAYLIGHT
BEGIN:STANDARD
TZOFFSETFROM:-0400
TZOFFSETTO:-0500
TZNAME:EST
DTSTART:20211107T060000
END:STANDARD
BEGIN:DAYLIGHT
TZOFFSETFROM:-0500
TZOFFSETTO:-0400
TZNAME:EDT
DTSTART:20220313T070000
END:DAYLIGHT
BEGIN:STANDARD
TZOFFSETFROM:-0400
TZOFFSETTO:-0500
TZNAME:EST
DTSTART:20221106T060000
END:STANDARD
BEGIN:DAYLIGHT
TZOFFSETFROM:-0500
TZOFFSETTO:-0400
TZNAME:EDT
DTSTART:20230312T070000
END:DAYLIGHT
BEGIN:STANDARD
TZOFFSETFROM:-0400
TZOFFSETTO:-0500
TZNAME:EST
DTSTART:20231105T060000
END:STANDARD
BEGIN:DAYLIGHT
TZOFFSETFROM:-0500
TZOFFSETTO:-0400
TZNAME:EDT
DTSTART:20240310T070000
END:DAYLIGHT
BEGIN:STANDARD
TZOFFSETFROM:-0400
TZOFFSETTO:-0500
TZNAME:EST
DTSTART:20241103T060000
END:STANDARD
END:VTIMEZONE
BEGIN:VEVENT
DTSTART;TZID=America/New_York:20230902T170000
DTEND;TZID=America/New_York:20230902T200000
DTSTAMP:20260421T063924
CREATED:20230520T222031Z
LAST-MODIFIED:20230821T032005Z
UID:2964-1693674000-1693684800@yorkriteclw.org
SUMMARY:ANCIENT TABLE CHAPTER
DESCRIPTION:PRIME RIB SUPPER\n\n\n\nCOST: $40 per person or $70 per couple.Come celebrate with your family the rich tradition of the Royal Arch and help our Chapter raise funds for RARA!Proceeds from the Table Chapter Tickets will support Clearwater Chapter No. 45\, Royal Arch Masons and Royal Arch Research Assistance (RARA). \n\n\n\nMenu\n\n\n\n\n\n\n\n\n\n\n\n\n\nTurkey\n\n\n\n\n\n\n\n\n\n\n\n\nEntrees\n\nRoasted Prime Rib of Beef \n\nPrime Rib of Beef perfectly roasted with personal spice\nblend. \n\nSmoked Boston\nButt Pulled Pork \n\nPork Blade Roast (Boston Butt) brined with savory seasonings\nthen smoked to perfection. \n\nVegetables\n\nMixed Greens Salad \n\nA mixture of spring\, leaf\, and Bibb lettuce\, and shredded\ncarrots with dressing on the side. \n\nDuchess Potatoes \n\nYukon gold potatoes\, butter\, cream\, egg yolks\, all whipped\ntogether\, piped\, and roasted to a crispy outside and creamy inside. \n\nGreen Bean Casserole \n\nGreen Beans\, Ham hocks\, Cream of Mushrooms\, Onion Strings. \n\nSides\n\n3 Cheese Mac-n-Cheese \n\nThree cheese Mac-n-Cheese lightly smoked.   \n\nDesserts\n\nCherry Cheese Pie \n\nPeanut Butter Pie \n\nCheesecake
URL:https://yorkriteclw.org/event/ancient-table-chapter/
LOCATION:Tarpon Lodge\, 26 North Ring Avenue\, Tarpon Springs\, FL\, 34689\, United States
CATEGORIES:Dinner,Fellowship,Social
ATTACH;FMTTYPE=image/webp:https://yorkriteclw.org/wp-content/uploads/2023/05/prime-rib.webp
ORGANIZER;CN="Clearwater York Rite Bodies":MAILTO:bodies@yorkriteclw.org
END:VEVENT
BEGIN:VEVENT
DTSTART;TZID=America/New_York:20211215T183000
DTEND;TZID=America/New_York:20211215T210000
DTSTAMP:20260421T063924
CREATED:20211101T114948Z
LAST-MODIFIED:20211119T005312Z
UID:1929-1639593000-1639602000@yorkriteclw.org
SUMMARY:Christmas Covered Dish
DESCRIPTION:FIRST: Register  \n\n\n\nTHEN: Tell us What are you bringing by clicking here and putting your name on the sign-up sheet. \n\n\n\n[pta_sign_up_sheet id=”” date=”” group=”” list_title=”” show_headers=”yes” show_time=”yes” show_phone=”no” show_email=”no” show_date_start=”yes” show_date_end=”no” order_by=”first_date” order=”ASC” ]
URL:https://yorkriteclw.org/event/christmas-pot-luck/
LOCATION:Tarpon Lodge\, 26 North Ring Avenue\, Tarpon Springs\, FL\, 34689\, United States
CATEGORIES:Dinner,Fellowship,Social
ATTACH;FMTTYPE=image/png:https://yorkriteclw.org/wp-content/uploads/2021/11/dinner.png
ORGANIZER;CN="Clearwater York Rite Bodies":MAILTO:bodies@yorkriteclw.org
END:VEVENT
BEGIN:VEVENT
DTSTART;TZID=America/New_York:20200328T170000
DTEND;TZID=America/New_York:20200328T190000
DTSTAMP:20260421T063924
CREATED:20200305T141744Z
LAST-MODIFIED:20200305T142731Z
UID:1521-1585414800-1585422000@yorkriteclw.org
SUMMARY:Table Council
DESCRIPTION:RSVP to jjtb59@gmail.com \nWhat is a TABLE COUNCIL?  It is a social gathering in which Companions\, Brethren\, Knights\, Family\, and Friends are invited share a prepared meal\, offer toasts\, relax and have a great time.
URL:https://yorkriteclw.org/event/table-council/
LOCATION:Tampa York Rite Masonic Bodies\, 4201 W\, Oklahoma Ave.\, Tampa\, FL\, 33616\, United States
CATEGORIES:Dinner,Fellowship,Social
ATTACH;FMTTYPE=image/png:https://yorkriteclw.org/wp-content/uploads/2020/03/council.png
END:VEVENT
END:VCALENDAR